BEGIN:VCALENDAR
VERSION:2.0
PRODID:-//Pastoral Ministry Office - ECPv5.3.1.1//NONSGML v1.0//EN
CALSCALE:GREGORIAN
METHOD:PUBLISH
X-WR-CALNAME:Pastoral Ministry Office
X-ORIGINAL-URL:https://pastoralministryoffice.org
X-WR-CALDESC:Events for Pastoral Ministry Office
BEGIN:VTIMEZONE
TZID:UTC
BEGIN:STANDARD
TZOFFSETFROM:+0000
TZOFFSETTO:+0000
TZNAME:UTC
DTSTART:20210101T000000
END:STANDARD
END:VTIMEZONE
BEGIN:VEVENT
DTSTART;TZID=UTC:20210630T190000
DTEND;TZID=UTC:20210630T200000
DTSTAMP:20260420T223531
CREATED:20201022T145952Z
LAST-MODIFIED:20210608T113257Z
UID:15099-1625079600-1625083200@pastoralministryoffice.org
SUMMARY:Online Gathering for Ministers to the Sick
DESCRIPTION:The government has allowed taking communion to the sick in principle\, but we must work within infection control restrictions to keep everyone safe\, especially in the light of the new varient. We also have to be careful to respect the protocols of the hospitals\, care homes and individuals we visit. \nThis workshop will work through the new diocesan guidelines on taking communion to the sick in a Covid safe manner. There will be an extended q+a to make sure we cover all eventualities. \nWe hope to record the workshop to make it available for those not able to attend. There are also printed guidelines for those not able to access the internet. \nThis training is for: \n\nExtraordinary Ministers of Communion who visit the sick\nSVP members\nOther parishioners who visit the sick\nOther interested parishioners\n\nThe workshop is a joint project of the Pastoral Ministry Office and the Liturgy Commission. \nRegister!
URL:https://pastoralministryoffice.org/event/training-for-ministry-to-the-sick/
ATTACH;FMTTYPE=image/jpeg:https://pastoralministryoffice.org/wp-content/uploads/2020/10/Homebound-Communion.jpg
END:VEVENT
END:VCALENDAR