BEGIN:VCALENDAR
VERSION:2.0
PRODID:-//Pastoral Ministry Office - ECPv5.3.1.1//NONSGML v1.0//EN
CALSCALE:GREGORIAN
METHOD:PUBLISH
X-WR-CALNAME:Pastoral Ministry Office
X-ORIGINAL-URL:https://pastoralministryoffice.org
X-WR-CALDESC:Events for Pastoral Ministry Office
BEGIN:VTIMEZONE
TZID:UTC
BEGIN:STANDARD
TZOFFSETFROM:+0000
TZOFFSETTO:+0000
TZNAME:UTC
DTSTART:20210101T000000
END:STANDARD
END:VTIMEZONE
BEGIN:VEVENT
DTSTART;TZID=UTC:20210906T193000
DTEND;TZID=UTC:20210927T203000
DTSTAMP:20260420T235652
CREATED:20210826T220053Z
LAST-MODIFIED:20210826T223357Z
UID:15618-1630956600-1632774600@pastoralministryoffice.org
SUMMARY:Refresh\, renew\, re-engage webinars
DESCRIPTION:Clifton and Northampton Dioceses are delighted to offer three webinars to unpack how we encourage and re-ignite parish life as we move on from the pandemic.  \n6th September: Fr. Nicholas King SJ will reflect with us on Christian Hospitality in the Gospel of Luke. \n20th September (tbc) How can we sing again?  Jo Boyce will inspire us to refresh our music ministry with lots of new ideas to help us get going again. \n27th September: What next?  Avril Baigent and Sarah Adams reflect on the practical steps to help re-build our communities. \n  \nRegister!
URL:https://pastoralministryoffice.org/event/refresh-webinars/
ATTACH;FMTTYPE=image/jpeg:https://pastoralministryoffice.org/wp-content/uploads/2021/08/Welcome-back-beach-small-AdobeStock_353362928-copy.jpeg
END:VEVENT
END:VCALENDAR