BEGIN:VCALENDAR
VERSION:2.0
PRODID:-//Pastoral Ministry Office - ECPv5.3.1.1//NONSGML v1.0//EN
CALSCALE:GREGORIAN
METHOD:PUBLISH
X-WR-CALNAME:Pastoral Ministry Office
X-ORIGINAL-URL:https://pastoralministryoffice.org
X-WR-CALDESC:Events for Pastoral Ministry Office
BEGIN:VTIMEZONE
TZID:UTC
BEGIN:STANDARD
TZOFFSETFROM:+0000
TZOFFSETTO:+0000
TZNAME:UTC
DTSTART:20210101T000000
END:STANDARD
END:VTIMEZONE
BEGIN:VEVENT
DTSTART;TZID=UTC:20210329T193000
DTEND;TZID=UTC:20210329T210000
DTSTAMP:20260420T184741
CREATED:20210203T130521Z
LAST-MODIFIED:20210309T134405Z
UID:15365-1617046200-1617051600@pastoralministryoffice.org
SUMMARY:Pathways of Prayer diocesan group
DESCRIPTION:Pathways of Prayer – 6 week online course. \nMonday evenings until 29th March\, 7.30-8.30pm \nWe are relaunching Pathways of Prayer for Lent 2021: https://formationpathways.co.uk. \nIn these six sessions\, we will explore the nature and purpose of prayer and how it fits into everyday life. We will be reflecting on our own way of praying and how it may have changed over time. We will try out some different ways of praying and talk about prayer in hard times. The course can be found on the formationpathways.co.uk website\, and for each weekly topic\, there are different resources to read\, watch and think about. You can explore these at any time that suits you through the week. There is also a printable journal that you can use to track your progress. \nThe course can be undertaken by individuals\, but like any learning\, can benefit from being part of a group to exchange ideas\, thoughts and experiences. If you don’t have a group in your parish\, join our diocesan group and come together each week for a time of sharing and joint prayer. \nFor more information about the course\, go to https://formationpathways.co.uk. \nTo register for the diocesan group\, go to https://pathways-of-prayer.eventbrite.co.uk.
URL:https://pastoralministryoffice.org/event/pathways-of-prayer-diocesan-group/
END:VEVENT
END:VCALENDAR