BEGIN:VCALENDAR
VERSION:2.0
PRODID:-//Pastoral Ministry Office - ECPv5.3.1.1//NONSGML v1.0//EN
CALSCALE:GREGORIAN
METHOD:PUBLISH
X-WR-CALNAME:Pastoral Ministry Office
X-ORIGINAL-URL:https://pastoralministryoffice.org
X-WR-CALDESC:Events for Pastoral Ministry Office
BEGIN:VTIMEZONE
TZID:UTC
BEGIN:STANDARD
TZOFFSETFROM:+0000
TZOFFSETTO:+0000
TZNAME:UTC
DTSTART:20220101T000000
END:STANDARD
END:VTIMEZONE
BEGIN:VEVENT
DTSTART;TZID=UTC:20220430T150000
DTEND;TZID=UTC:20220430T160000
DTSTAMP:20260421T005741
CREATED:20220408T113828Z
LAST-MODIFIED:20220425T121827Z
UID:15798-1651330800-1651334400@pastoralministryoffice.org
SUMMARY:Mass for the Sick
DESCRIPTION:Bishop David will celebrate a special Mass for the Sick on Saturday 30thApril at the Cathedral.  This is specially for all our housebound\, and we hope that they will be able to follow it on the Cathedral livestream via the diocesan website: https://northamptondiocese.org/live/.  You can download the Mass sheet here so that you can join in with us.  All are also welcome to attend in person. \nDownload Mass sheet here \nSome SVP conferences and parishes are hoping to reach out to their sick and housebound in different ways on the day.  If you would like to get involved with this\, please contact your local SVP or parish. \n 
URL:https://pastoralministryoffice.org/event/mass-for-the-sick/
LOCATION:Northampton Cathedral\, Cathedral House\, Primrose Hill\, Northampton\, Northamptonshire\, NN2 6AG\, United Kingdom
ATTACH;FMTTYPE=image/jpeg:https://pastoralministryoffice.org/wp-content/uploads/2022/04/Bishop-David-at-Mass-for-people-with-disabilities-51665018384_d41dc65ae2_c.jpg
END:VEVENT
END:VCALENDAR