BEGIN:VCALENDAR
VERSION:2.0
PRODID:-//Pastoral Ministry Office - ECPv5.3.1.1//NONSGML v1.0//EN
CALSCALE:GREGORIAN
METHOD:PUBLISH
X-WR-CALNAME:Pastoral Ministry Office
X-ORIGINAL-URL:https://pastoralministryoffice.org
X-WR-CALDESC:Events for Pastoral Ministry Office
BEGIN:VTIMEZONE
TZID:UTC
BEGIN:STANDARD
TZOFFSETFROM:+0000
TZOFFSETTO:+0000
TZNAME:UTC
DTSTART:20220101T000000
END:STANDARD
END:VTIMEZONE
BEGIN:VEVENT
DTSTART;TZID=UTC:20221121T193000
DTEND;TZID=UTC:20221121T203000
DTSTAMP:20260420T202956
CREATED:20221104T093618Z
LAST-MODIFIED:20221104T093649Z
UID:15827-1669059000-1669062600@pastoralministryoffice.org
SUMMARY:Synod Next Steps: Launching our Diocesan Assembly
DESCRIPTION:Join Bishop David\, Fr Francis Higgins and Avril Baigent to discuss next steps for the Synod in our diocese\, including launching our diocesan assembly on 15th July 2023. \nFor more information about the Synod in our diocese\, check out the resources on our diocesan website:https://northamptondiocese.org/for-a-synodal-church/ \n  \n&nbsp;\n<div class=”wp-block-button aligncenter” style=”text-align: center;”><a class=”wp-block-button__link has-background has-blue-background-color” href=”https://https://launching_diocesan_assembly.eventbrite.co.uk”>Register!</a></div>
URL:https://pastoralministryoffice.org/event/launch_diocesan_assembly/
ATTACH;FMTTYPE=image/png:https://pastoralministryoffice.org/wp-content/uploads/2022/11/Bishop-David-chatting-wide.png
END:VEVENT
END:VCALENDAR